Package: BiocIO Version: 1.19.0 Command: /home/biocbuild/R/R/bin/R CMD build --keep-empty-dirs --no-resave-data BiocIO StartedAt: 2025-10-20 22:14:55 -0000 (Mon, 20 Oct 2025) EndedAt: 2025-10-20 22:15:06 -0000 (Mon, 20 Oct 2025) EllapsedTime: 11.0 seconds RetCode: 0 Status: OK PackageFile: BiocIO_1.19.0.tar.gz PackageFileSize: 251.3 KiB