Package: BiocIO Version: 1.21.0 Command: /home/biocbuild/bbs-3.23-bioc/R/bin/R CMD INSTALL BiocIO StartedAt: 2025-11-20 15:12:08 -0500 (Thu, 20 Nov 2025) EndedAt: 2025-11-20 15:12:13 -0500 (Thu, 20 Nov 2025) EllapsedTime: 5.2 seconds RetCode: 0 Status: OK