Package: BiocIO Version: 1.21.0 Command: /home/biocbuild/bbs-3.23-bioc/R/bin/R CMD build --keep-empty-dirs --no-resave-data BiocIO StartedAt: 2025-11-20 16:28:17 -0500 (Thu, 20 Nov 2025) EndedAt: 2025-11-20 16:28:25 -0500 (Thu, 20 Nov 2025) EllapsedTime: 8.0 seconds RetCode: 0 Status: OK PackageFile: BiocIO_1.21.0.tar.gz PackageFileSize: 226.5 KiB