Package: BiocIO Version: 1.19.0 Command: /Library/Frameworks/R.framework/Resources/bin/R CMD INSTALL BiocIO StartedAt: 2025-09-30 15:14:22 -0400 (Tue, 30 Sep 2025) EndedAt: 2025-09-30 15:14:34 -0400 (Tue, 30 Sep 2025) EllapsedTime: 12.8 seconds RetCode: 0 Status: OK