Package: BiocIO Version: 1.19.0 Command: /Library/Frameworks/R.framework/Resources/bin/R CMD build --keep-empty-dirs --no-resave-data BiocIO StartedAt: 2025-10-01 16:09:55 -0400 (Wed, 01 Oct 2025) EndedAt: 2025-10-01 16:10:08 -0400 (Wed, 01 Oct 2025) EllapsedTime: 12.6 seconds RetCode: 0 Status: OK PackageFile: BiocIO_1.19.0.tar.gz PackageFileSize: 226.3 KiB