Package: BiocHubsShiny Version: 1.9.2 Command: /home/biocbuild/R/R/bin/R CMD build --keep-empty-dirs --no-resave-data BiocHubsShiny StartedAt: 2025-10-20 22:14:50 -0000 (Mon, 20 Oct 2025) EndedAt: 2025-10-20 22:15:18 -0000 (Mon, 20 Oct 2025) EllapsedTime: 28.0 seconds RetCode: 0 Status: OK PackageFile: BiocHubsShiny_1.9.2.tar.gz PackageFileSize: 1.629 MiB