Package: BiocHubsShiny Version: 1.11.0 Command: /home/biocbuild/bbs-3.23-bioc/R/bin/R CMD INSTALL BiocHubsShiny StartedAt: 2025-11-20 15:25:46 -0500 (Thu, 20 Nov 2025) EndedAt: 2025-11-20 15:26:01 -0500 (Thu, 20 Nov 2025) EllapsedTime: 14.6 seconds RetCode: 0 Status: OK