Package: BiocHubsShiny Version: 1.11.0 Command: /home/biocbuild/bbs-3.23-bioc/R/bin/R CMD build --keep-empty-dirs --no-resave-data BiocHubsShiny StartedAt: 2025-11-20 16:28:06 -0500 (Thu, 20 Nov 2025) EndedAt: 2025-11-20 16:28:26 -0500 (Thu, 20 Nov 2025) EllapsedTime: 20.0 seconds RetCode: 0 Status: OK PackageFile: BiocHubsShiny_1.11.0.tar.gz PackageFileSize: 1.605 MiB