Package: BiocHubsShiny Version: 1.9.2 Command: /Library/Frameworks/R.framework/Resources/bin/R CMD INSTALL BiocHubsShiny StartedAt: 2025-10-10 15:28:47 -0400 (Fri, 10 Oct 2025) EndedAt: 2025-10-10 15:29:08 -0400 (Fri, 10 Oct 2025) EllapsedTime: 21.1 seconds RetCode: 0 Status: OK