Package: BiocGenerics Version: 0.55.3 Command: /home/biocbuild/bbs-3.22-bioc/R/bin/R CMD check --install=check:BiocGenerics.install-out.txt --library=/home/biocbuild/bbs-3.22-bioc/R/site-library --timings BiocGenerics_0.55.3.tar.gz StartedAt: 2025-10-15 22:09:24 -0400 (Wed, 15 Oct 2025) EndedAt: 2025-10-15 22:10:17 -0400 (Wed, 15 Oct 2025) EllapsedTime: 53.1 seconds RetCode: 0 Status: WARNINGS CheckDir: BiocGenerics.Rcheck Warnings: 1