Package: BiocGenerics Version: 0.57.0 Command: /home/biocbuild/bbs-3.23-bioc/R/bin/R CMD INSTALL BiocGenerics StartedAt: 2025-11-04 15:10:26 -0500 (Tue, 04 Nov 2025) EndedAt: 2025-11-04 15:10:37 -0500 (Tue, 04 Nov 2025) EllapsedTime: 10.7 seconds RetCode: 0 Status: OK