Package: BiocGenerics Version: 0.57.0 Command: /home/biocbuild/bbs-3.23-bioc/R/bin/R CMD build --keep-empty-dirs --no-resave-data BiocGenerics StartedAt: 2025-11-04 16:26:12 -0500 (Tue, 04 Nov 2025) EndedAt: 2025-11-04 16:26:14 -0500 (Tue, 04 Nov 2025) EllapsedTime: 2.0 seconds RetCode: 0 Status: OK PackageFile: BiocGenerics_0.57.0.tar.gz PackageFileSize: 55.42 KiB