Package: BiocGenerics Version: 0.55.1 Maintainer: Hervé Pagès MaintainerEmail: hpages.on.github at gmail.com git_url: https://git.bioconductor.org/packages/BiocGenerics git_branch: devel git_last_commit: bac3ea0 git_last_commit_date: 2025-07-28 13:19:16 -0400 (Mon, 28 Jul 2025)