Package: BiocFileCache Version: 2.99.6 Command: /home/biocbuild/R/R/bin/R CMD check --install=check:BiocFileCache.install-out.txt --library=/home/biocbuild/R/R/site-library --no-vignettes --timings BiocFileCache_2.99.6.tar.gz StartedAt: 2025-10-14 05:18:22 -0000 (Tue, 14 Oct 2025) EndedAt: 2025-10-14 05:20:31 -0000 (Tue, 14 Oct 2025) EllapsedTime: 128.1 seconds RetCode: 0 Status: OK CheckDir: BiocFileCache.Rcheck Warnings: 0