Package: BiocFileCache Version: 3.1.0 Command: /home/biocbuild/bbs-3.23-bioc/R/bin/R CMD check --install=check:BiocFileCache.install-out.txt --library=/home/biocbuild/bbs-3.23-bioc/R/site-library --timings BiocFileCache_3.1.0.tar.gz StartedAt: 2025-10-31 21:28:32 -0400 (Fri, 31 Oct 2025) EndedAt: 2025-10-31 21:30:50 -0400 (Fri, 31 Oct 2025) EllapsedTime: 138.2 seconds RetCode: 0 Status: OK CheckDir: BiocFileCache.Rcheck Warnings: 0