Package: BiocFileCache Version: 3.1.0 Command: /home/biocbuild/bbs-3.23-bioc/R/bin/R CMD build --keep-empty-dirs --no-resave-data BiocFileCache StartedAt: 2025-10-31 16:44:03 -0400 (Fri, 31 Oct 2025) EndedAt: 2025-10-31 16:45:45 -0400 (Fri, 31 Oct 2025) EllapsedTime: 101.1 seconds RetCode: 0 Status: OK PackageFile: BiocFileCache_3.1.0.tar.gz PackageFileSize: 725.7 KiB