Package: BiocFHIR Version: 1.13.0 Command: /home/biocbuild/bbs-3.23-bioc/R/bin/R CMD build --keep-empty-dirs --no-resave-data BiocFHIR StartedAt: 2025-11-21 16:28:25 -0500 (Fri, 21 Nov 2025) EndedAt: 2025-11-21 16:28:55 -0500 (Fri, 21 Nov 2025) EllapsedTime: 30.0 seconds RetCode: 0 Status: OK PackageFile: BiocFHIR_1.13.0.tar.gz PackageFileSize: 4.29 MiB