Package: BiocFHIR Version: 1.13.0 Command: /Library/Frameworks/R.framework/Resources/bin/R CMD INSTALL BiocFHIR StartedAt: 2025-11-21 15:07:39 -0500 (Fri, 21 Nov 2025) EndedAt: 2025-11-21 15:07:41 -0500 (Fri, 21 Nov 2025) EllapsedTime: 2.3 seconds RetCode: 0 Status: OK