Package: BiocFHIR Version: 1.13.0 Command: /Library/Frameworks/R.framework/Resources/bin/R CMD build --keep-empty-dirs --no-resave-data BiocFHIR StartedAt: 2025-11-21 15:44:41 -0500 (Fri, 21 Nov 2025) EndedAt: 2025-11-21 15:44:55 -0500 (Fri, 21 Nov 2025) EllapsedTime: 14.2 seconds RetCode: 0 Status: OK PackageFile: BiocFHIR_1.13.0.tar.gz PackageFileSize: 4.289 MiB