Package: BiocCheck Version: 1.45.20 Command: /home/biocbuild/bbs-3.22-bioc/R/bin/R CMD check --install=check:BiocCheck.install-out.txt --library=/home/biocbuild/bbs-3.22-bioc/R/site-library --timings BiocCheck_1.45.20.tar.gz StartedAt: 2025-10-15 22:09:11 -0400 (Wed, 15 Oct 2025) EndedAt: 2025-10-15 22:12:19 -0400 (Wed, 15 Oct 2025) EllapsedTime: 188.3 seconds RetCode: 0 Status: OK CheckDir: BiocCheck.Rcheck Warnings: 0