Package: BiocCheck Version: 1.47.0 Command: /home/biocbuild/bbs-3.23-bioc/R/bin/R CMD INSTALL BiocCheck StartedAt: 2025-10-31 15:22:00 -0400 (Fri, 31 Oct 2025) EndedAt: 2025-10-31 15:22:11 -0400 (Fri, 31 Oct 2025) EllapsedTime: 10.9 seconds RetCode: 0 Status: OK