Package: BiocCheck Version: 1.47.0 Command: /home/biocbuild/bbs-3.23-bioc/R/bin/R CMD build --keep-empty-dirs --no-resave-data BiocCheck StartedAt: 2025-10-31 16:43:56 -0400 (Fri, 31 Oct 2025) EndedAt: 2025-10-31 16:44:10 -0400 (Fri, 31 Oct 2025) EllapsedTime: 14.0 seconds RetCode: 0 Status: OK PackageFile: BiocCheck_1.47.0.tar.gz PackageFileSize: 312.6 KiB