Package: BiocCheck Version: 1.45.18 Command: /Library/Frameworks/R.framework/Resources/bin/R CMD build --keep-empty-dirs --no-resave-data BiocCheck StartedAt: 2025-09-29 16:08:26 -0400 (Mon, 29 Sep 2025) EndedAt: 2025-09-29 16:08:47 -0400 (Mon, 29 Sep 2025) EllapsedTime: 20.6 seconds RetCode: 0 Status: OK PackageFile: BiocCheck_1.45.18.tar.gz PackageFileSize: 312.3 KiB