Package: BiocCheck Version: 1.45.18 Maintainer: Marcel Ramos MaintainerEmail: marcel.ramos at sph.cuny.edu git_url: https://git.bioconductor.org/packages/BiocCheck git_branch: devel git_last_commit: 9f7d481 git_last_commit_date: 2025-08-26 17:26:27 -0400 (Tue, 26 Aug 2025)