Package: BiocBook Version: 1.7.0 Command: /home/biocbuild/R/R/bin/R CMD build --keep-empty-dirs --no-resave-data BiocBook StartedAt: 2025-10-20 22:14:16 -0000 (Mon, 20 Oct 2025) EndedAt: 2025-10-20 22:14:48 -0000 (Mon, 20 Oct 2025) EllapsedTime: 32.0 seconds RetCode: 0 Status: OK PackageFile: BiocBook_1.7.0.tar.gz PackageFileSize: 967.8 KiB