Package: BiocBook Version: 1.7.0 Command: /home/biocbuild/bbs-3.22-bioc/R/bin/R CMD check --install=check:BiocBook.install-out.txt --library=/home/biocbuild/bbs-3.22-bioc/R/site-library --timings BiocBook_1.7.0.tar.gz StartedAt: 2025-10-12 21:27:01 -0400 (Sun, 12 Oct 2025) EndedAt: 2025-10-12 21:29:47 -0400 (Sun, 12 Oct 2025) EllapsedTime: 166.3 seconds RetCode: 0 Status: OK CheckDir: BiocBook.Rcheck Warnings: 0