Package: BiocBook Version: 1.9.0 Command: /home/biocbuild/bbs-3.23-bioc/R/bin/R CMD INSTALL BiocBook StartedAt: 2025-11-21 15:12:12 -0500 (Fri, 21 Nov 2025) EndedAt: 2025-11-21 15:12:18 -0500 (Fri, 21 Nov 2025) EllapsedTime: 5.9 seconds RetCode: 0 Status: OK