Package: BiocBook Version: 1.9.0 Command: /home/biocbuild/bbs-3.23-bioc/R/bin/R CMD build --keep-empty-dirs --no-resave-data BiocBook StartedAt: 2025-11-21 16:28:22 -0500 (Fri, 21 Nov 2025) EndedAt: 2025-11-21 16:28:49 -0500 (Fri, 21 Nov 2025) EllapsedTime: 27.0 seconds RetCode: 0 Status: OK PackageFile: BiocBook_1.9.0.tar.gz PackageFileSize: 902.9 KiB