Package: BiocBaseUtils Version: 1.11.2 Command: /home/biocbuild/R/R/bin/R CMD check --install=check:BiocBaseUtils.install-out.txt --library=/home/biocbuild/R/R/site-library --no-vignettes --timings BiocBaseUtils_1.11.2.tar.gz StartedAt: 2025-10-21 04:55:22 -0000 (Tue, 21 Oct 2025) EndedAt: 2025-10-21 04:55:42 -0000 (Tue, 21 Oct 2025) EllapsedTime: 20.0 seconds RetCode: 0 Status: OK CheckDir: BiocBaseUtils.Rcheck Warnings: 0