Package: BiocBaseUtils Version: 1.13.0 Command: /home/biocbuild/bbs-3.23-bioc/R/bin/R CMD INSTALL BiocBaseUtils StartedAt: 2025-10-30 15:02:10 -0400 (Thu, 30 Oct 2025) EndedAt: 2025-10-30 15:02:19 -0400 (Thu, 30 Oct 2025) EllapsedTime: 9.2 seconds RetCode: 0 Status: OK