Package: BiocBaseUtils Version: 1.11.2 Command: /Library/Frameworks/R.framework/Resources/bin/R CMD check --install=check:BiocBaseUtils.install-out.txt --library=/Library/Frameworks/R.framework/Resources/library --no-vignettes --timings BiocBaseUtils_1.11.2.tar.gz StartedAt: 2025-10-19 20:35:38 -0400 (Sun, 19 Oct 2025) EndedAt: 2025-10-19 20:36:21 -0400 (Sun, 19 Oct 2025) EllapsedTime: 43.2 seconds RetCode: 0 Status: OK CheckDir: BiocBaseUtils.Rcheck Warnings: 0