Back to Multiple platform build/check report for BioC 3.22:   simplified   long
A[B]CDEFGHIJKLMNOPQRSTUVWXYZ

This page was generated on 2025-10-04 12:02 -0400 (Sat, 04 Oct 2025).

HostnameOSArch (*)R versionInstalled pkgs
nebbiolo2Linux (Ubuntu 24.04.3 LTS)x86_644.5.1 Patched (2025-08-23 r88802) -- "Great Square Root" 4853
lconwaymacOS 12.7.1 Montereyx86_644.5.1 Patched (2025-09-10 r88807) -- "Great Square Root" 4640
kjohnson3macOS 13.7.7 Venturaarm644.5.1 Patched (2025-09-10 r88807) -- "Great Square Root" 4585
taishanLinux (openEuler 24.03 LTS)aarch644.5.0 (2025-04-11) -- "How About a Twenty-Six" 4576
Click on any hostname to see more info about the system (e.g. compilers)      (*) as reported by 'uname -p', except on Windows and Mac OS X

All results for package BiocBaseUtils


To the developers/maintainers of the BiocBaseUtils package:
- Allow up to 24 hours (and sometimes 48 hours) for your latest push to git@git.bioconductor.org:packages/BiocBaseUtils.git to reflect on this report. See Troubleshooting Build Report for more information.
- Use the following Renviron settings to reproduce errors and warnings.
- If 'R CMD check' started to fail recently on the Linux builder(s) over a missing dependency, add the missing dependency to 'Suggests:' in your DESCRIPTION file. See Renviron.bioc for more information.

raw results

Package 183/2341HostnameOS / ArchINSTALLBUILDCHECKBUILD BIN
BiocBaseUtils 1.11.2  (landing page)
Marcel Ramos
Snapshot Date: 2025-10-03 13:45 -0400 (Fri, 03 Oct 2025)
git_url: https://git.bioconductor.org/packages/BiocBaseUtils
git_branch: devel
git_last_commit: ff01b1f
git_last_commit_date: 2025-07-14 13:12:23 -0400 (Mon, 14 Jul 2025)
nebbiolo2Linux (Ubuntu 24.04.3 LTS) / x86_64  OK    OK    OK  UNNEEDED, same version is already published
lconwaymacOS 12.7.1 Monterey / x86_64  OK    OK    OK    OK  UNNEEDED, same version is already published
kjohnson3macOS 13.7.7 Ventura / arm64  OK    OK    OK    OK  UNNEEDED, same version is already published
taishanLinux (openEuler 24.03 LTS) / aarch64  OK    OK    OK  



Results for Bioconductor software packages that depend directly on package BiocBaseUtils

QUICK STATSOS / ArchINSTALLBUILDCHECKBUILD BIN
nebbiolo2Linux (Ubuntu 24.04.3 LTS) / x86_64
0023
0122
00022
lconwaymacOS 12.7.1 Monterey / x86_64
0023
0221
00021
0021
kjohnson3macOS 13.7.7 Ventura / arm64
0023
0221
00021
0021
taishanLinux (openEuler 24.03 LTS) / aarch64
0022
0319
00019
Package 1/23HostnameOS / ArchINSTALLBUILDCHECKBUILD BIN
AlphaMissenseR 1.5.3  (landing page)
Martin Morgan
git_last_commit: edb4db6
git_last_commit_date: 2025-07-31 17:43:22 -0400
nebbiolo2Linux (Ubuntu 24.04.3 LTS) / x86_64  OK    ERROR  skipped
lconwaymacOS 12.7.1 Monterey / x86_64  OK    ERROR  skippedskipped
kjohnson3macOS 13.7.7 Ventura / arm64  OK    ERROR  skippedskipped
taishanLinux (openEuler 24.03 LTS) / aarch64  OK    ERROR  skipped
Package 2/23HostnameOS / ArchINSTALLBUILDCHECKBUILD BIN
AnnotationHub 3.99.6  (landing page)
Bioconductor Package Maintainer
git_last_commit: 11758ef
git_last_commit_date: 2025-07-25 08:12:30 -0400
nebbiolo2Linux (Ubuntu 24.04.3 LTS) / x86_64  OK    OK    OK  UNNEEDED, same version is already published
lconwaymacOS 12.7.1 Monterey / x86_64  OK    OK    OK    OK  UNNEEDED, same version is already published
kjohnson3macOS 13.7.7 Ventura / arm64  OK    OK    OK    OK  UNNEEDED, same version is already published
taishanLinux (openEuler 24.03 LTS) / aarch64  OK    OK    OK  
Package 3/23HostnameOS / ArchINSTALLBUILDCHECKBUILD BIN
AnVIL 1.21.10  (landing page)
Marcel Ramos
git_last_commit: 1e39a3f
git_last_commit_date: 2025-09-22 10:20:32 -0400
nebbiolo2Linux (Ubuntu 24.04.3 LTS) / x86_64  OK    OK    OK  UNNEEDED, same version is already published
lconwaymacOS 12.7.1 Monterey / x86_64  OK    OK    OK    OK  UNNEEDED, same version is already published
kjohnson3macOS 13.7.7 Ventura / arm64  OK    OK    OK    OK  UNNEEDED, same version is already published
taishanLinux (openEuler 24.03 LTS) / aarch64  OK    OK    OK  
Package 4/23HostnameOS / ArchINSTALLBUILDCHECKBUILD BIN
AnVILAz 1.3.1  (landing page)
Marcel Ramos
git_last_commit: 71d98aa
git_last_commit_date: 2025-04-28 15:27:32 -0400
nebbiolo2Linux (Ubuntu 24.04.3 LTS) / x86_64  OK    OK    OK  UNNEEDED, same version is already published
lconwaymacOS 12.7.1 Monterey / x86_64  OK    OK    OK    OK  UNNEEDED, same version is already published
kjohnson3macOS 13.7.7 Ventura / arm64  OK    OK    OK    OK  UNNEEDED, same version is already published
taishanLinux (openEuler 24.03 LTS) / aarch64  OK    OK    OK  
Package 5/23HostnameOS / ArchINSTALLBUILDCHECKBUILD BIN
AnVILGCP 1.3.11  (landing page)
Marcel Ramos
git_last_commit: 7f3e04b
git_last_commit_date: 2025-09-25 16:59:15 -0400
nebbiolo2Linux (Ubuntu 24.04.3 LTS) / x86_64  OK    OK    OK  UNNEEDED, same version is already published
lconwaymacOS 12.7.1 Monterey / x86_64  OK    OK    OK    OK  UNNEEDED, same version is already published
kjohnson3macOS 13.7.7 Ventura / arm64  OK    OK    OK    OK  UNNEEDED, same version is already published
taishanLinux (openEuler 24.03 LTS) / aarch64  OK    OK    OK  
Package 6/23HostnameOS / ArchINSTALLBUILDCHECKBUILD BIN
AnVILPublish 1.19.1  (landing page)
Marcel Ramos
git_last_commit: 8e30ee4
git_last_commit_date: 2025-08-12 15:26:14 -0400
nebbiolo2Linux (Ubuntu 24.04.3 LTS) / x86_64  OK    OK    OK  UNNEEDED, same version is already published
lconwaymacOS 12.7.1 Monterey / x86_64  OK    OK    OK    OK  UNNEEDED, same version is already published
kjohnson3macOS 13.7.7 Ventura / arm64  OK    OK    OK    OK  UNNEEDED, same version is already published
taishanLinux (openEuler 24.03 LTS) / aarch64  OK    OK    OK  
Package 7/23HostnameOS / ArchINSTALLBUILDCHECKBUILD BIN
Bioc.gff 0.99.17  (landing page)
Bioconductor Package Maintainer
git_last_commit: 1ce509f
git_last_commit_date: 2025-09-24 15:16:02 -0400
nebbiolo2Linux (Ubuntu 24.04.3 LTS) / x86_64  OK    OK    OK  UNNEEDED, same version is already published
lconwaymacOS 12.7.1 Monterey / x86_64  OK    OK    OK    OK  UNNEEDED, same version is already published
kjohnson3macOS 13.7.7 Ventura / arm64  OK    OK    OK    OK  UNNEEDED, same version is already published
taishanLinux (openEuler 24.03 LTS) / aarch64  OK    OK    OK  
Package 8/23HostnameOS / ArchINSTALLBUILDCHECKBUILD BIN
BiocCheck 1.45.18  (landing page)
Marcel Ramos
git_last_commit: 9f7d481
git_last_commit_date: 2025-08-26 17:26:27 -0400
nebbiolo2Linux (Ubuntu 24.04.3 LTS) / x86_64  OK    OK    OK  UNNEEDED, same version is already published
lconwaymacOS 12.7.1 Monterey / x86_64  OK    OK    OK    OK  UNNEEDED, same version is already published
kjohnson3macOS 13.7.7 Ventura / arm64  OK    OK    OK    OK  UNNEEDED, same version is already published
taishanLinux (openEuler 24.03 LTS) / aarch64  OK    OK    OK  
Package 9/23HostnameOS / ArchINSTALLBUILDCHECKBUILD BIN
BiocFHIR 1.11.0  (landing page)
Vincent Carey
git_last_commit: 6a27e5d
git_last_commit_date: 2025-04-30 20:48:46 -0400
nebbiolo2Linux (Ubuntu 24.04.3 LTS) / x86_64  OK    OK    OK  UNNEEDED, same version is already published
lconwaymacOS 12.7.1 Monterey / x86_64  OK    OK    OK    OK  UNNEEDED, same version is already published
kjohnson3macOS 13.7.7 Ventura / arm64  OK    OK    OK    OK  UNNEEDED, same version is already published
taishanLinux (openEuler 24.03 LTS) / aarch64  OK    OK    OK  
Package 10/23HostnameOS / ArchINSTALLBUILDCHECKBUILD BIN
cBioPortalData 2.21.5  (landing page)
Marcel Ramos
git_last_commit: acba625
git_last_commit_date: 2025-07-21 15:12:16 -0400
nebbiolo2Linux (Ubuntu 24.04.3 LTS) / x86_64  OK    OK    OK  UNNEEDED, same version is already published
lconwaymacOS 12.7.1 Monterey / x86_64  OK    OK    OK    OK  UNNEEDED, same version is already published
kjohnson3macOS 13.7.7 Ventura / arm64  OK    OK    OK    OK  UNNEEDED, same version is already published
taishanLinux (openEuler 24.03 LTS) / aarch64  OK    OK    OK  
Package 11/23HostnameOS / ArchINSTALLBUILDCHECKBUILD BIN
DNAfusion 1.11.0  (landing page)
Christoffer Trier Maansson
git_last_commit: 2308eec
git_last_commit_date: 2025-05-13 07:26:04 -0400
nebbiolo2Linux (Ubuntu 24.04.3 LTS) / x86_64  OK    OK    OK  UNNEEDED, same version is already published
lconwaymacOS 12.7.1 Monterey / x86_64  OK    OK    OK    OK  UNNEEDED, same version is already published
kjohnson3macOS 13.7.7 Ventura / arm64  OK    OK    OK    OK  UNNEEDED, same version is already published
taishanLinux (openEuler 24.03 LTS) / aarch64  OK    OK    OK  
Package 12/23HostnameOS / ArchINSTALLBUILDCHECKBUILD BIN
GCPtools 0.99.4  (landing page)
Marcel Ramos
git_last_commit: 7ca80e8
git_last_commit_date: 2025-09-25 15:43:20 -0400
nebbiolo2Linux (Ubuntu 24.04.3 LTS) / x86_64  OK    OK    OK  UNNEEDED, same version is already published
lconwaymacOS 12.7.1 Monterey / x86_64  OK    OK    OK    OK  UNNEEDED, same version is already published
kjohnson3macOS 13.7.7 Ventura / arm64  OK    OK    OK    OK  UNNEEDED, same version is already published
taishanLinux (openEuler 24.03 LTS) / aarch64  OK    OK    OK  
Package 13/23HostnameOS / ArchINSTALLBUILDCHECKBUILD BIN
GenomicFiles 1.45.2  (landing page)
Bioconductor Package Maintainer
git_last_commit: 53f71f2
git_last_commit_date: 2025-07-21 11:45:02 -0400
nebbiolo2Linux (Ubuntu 24.04.3 LTS) / x86_64  OK    OK    OK  UNNEEDED, same version is already published
lconwaymacOS 12.7.1 Monterey / x86_64  OK    OK    OK    OK  UNNEEDED, same version is already published
kjohnson3macOS 13.7.7 Ventura / arm64  OK    OK    OK    OK  UNNEEDED, same version is already published
taishanLinux (openEuler 24.03 LTS) / aarch64  OK    OK    OK  
Package 14/23HostnameOS / ArchINSTALLBUILDCHECKBUILD BIN
iSEEfier 1.5.0  (landing page)
Najla Abassi
git_last_commit: 26d9e8d
git_last_commit_date: 2025-07-25 09:21:57 -0400
nebbiolo2Linux (Ubuntu 24.04.3 LTS) / x86_64  OK    OK    OK  UNNEEDED, same version is already published
lconwaymacOS 12.7.1 Monterey / x86_64  OK    OK    OK    OK  UNNEEDED, same version is already published
kjohnson3macOS 13.7.7 Ventura / arm64  OK    OK    OK    OK  UNNEEDED, same version is already published
taishanLinux (openEuler 24.03 LTS) / aarch64  OK    OK    OK  
Package 15/23HostnameOS / ArchINSTALLBUILDCHECKBUILD BIN
looking4clusters 0.99.4  (landing page)
David Barrios
git_last_commit: 812475f
git_last_commit_date: 2025-10-01 10:59:28 -0400
nebbiolo2Linux (Ubuntu 24.04.3 LTS) / x86_64  OK    OK    OK  YES
lconwaymacOS 12.7.1 Monterey / x86_64  OK    OK    OK    OK  YES
kjohnson3macOS 13.7.7 Ventura / arm64  OK    OK    OK    OK  YES
taishanLinux (openEuler 24.03 LTS) / aarch64  NA    NA    NA  
Package 16/23HostnameOS / ArchINSTALLBUILDCHECKBUILD BIN
MultiAssayExperiment 1.35.9  (landing page)
Marcel Ramos
git_last_commit: 3713158
git_last_commit_date: 2025-08-18 16:35:17 -0400
nebbiolo2Linux (Ubuntu 24.04.3 LTS) / x86_64  OK    OK    OK  UNNEEDED, same version is already published
lconwaymacOS 12.7.1 Monterey / x86_64  OK    OK    OK    OK  UNNEEDED, same version is already published
kjohnson3macOS 13.7.7 Ventura / arm64  OK    OK    OK    OK  UNNEEDED, same version is already published
taishanLinux (openEuler 24.03 LTS) / aarch64  OK    OK    OK  
Package 17/23HostnameOS / ArchINSTALLBUILDCHECKBUILD BIN
RaggedExperiment 1.33.7  (landing page)
Marcel Ramos
git_last_commit: 4cb9ce7
git_last_commit_date: 2025-07-10 14:19:28 -0400
nebbiolo2Linux (Ubuntu 24.04.3 LTS) / x86_64  OK    OK    OK  UNNEEDED, same version is already published
lconwaymacOS 12.7.1 Monterey / x86_64  OK    OK    OK    OK  UNNEEDED, same version is already published
kjohnson3macOS 13.7.7 Ventura / arm64  OK    OK    OK    OK  UNNEEDED, same version is already published
taishanLinux (openEuler 24.03 LTS) / aarch64  OK    OK    OK  
Package 18/23HostnameOS / ArchINSTALLBUILDCHECKBUILD BIN
TCGAutils 1.29.5  (landing page)
Marcel Ramos
git_last_commit: bafe4ce
git_last_commit_date: 2025-07-02 12:15:08 -0400
nebbiolo2Linux (Ubuntu 24.04.3 LTS) / x86_64  OK    OK    OK  UNNEEDED, same version is already published
lconwaymacOS 12.7.1 Monterey / x86_64  OK    OK    OK    OK  UNNEEDED, same version is already published
kjohnson3macOS 13.7.7 Ventura / arm64  OK    OK    OK    OK  UNNEEDED, same version is already published
taishanLinux (openEuler 24.03 LTS) / aarch64  OK    ERROR  skipped
Package 19/23HostnameOS / ArchINSTALLBUILDCHECKBUILD BIN
TENxIO 1.11.5  (landing page)
Marcel Ramos
git_last_commit: f7f2c88
git_last_commit_date: 2025-06-21 01:21:24 -0400
nebbiolo2Linux (Ubuntu 24.04.3 LTS) / x86_64  OK    OK    OK  UNNEEDED, same version is already published
lconwaymacOS 12.7.1 Monterey / x86_64  OK    ERROR  skippedskipped
kjohnson3macOS 13.7.7 Ventura / arm64  OK    ERROR  skippedskipped
taishanLinux (openEuler 24.03 LTS) / aarch64  OK    OK    OK  
Package 20/23HostnameOS / ArchINSTALLBUILDCHECKBUILD BIN
UniProt.ws 2.49.4  (landing page)
Marcel Ramos
git_last_commit: 0d308fa
git_last_commit_date: 2025-09-15 12:27:52 -0400
nebbiolo2Linux (Ubuntu 24.04.3 LTS) / x86_64  OK    OK    OK  UNNEEDED, same version is already published
lconwaymacOS 12.7.1 Monterey / x86_64  OK    OK    OK    OK  UNNEEDED, same version is already published
kjohnson3macOS 13.7.7 Ventura / arm64  OK    OK    OK    OK  UNNEEDED, same version is already published
taishanLinux (openEuler 24.03 LTS) / aarch64  OK    OK    OK  
Package 21/23HostnameOS / ArchINSTALLBUILDCHECKBUILD BIN
VisiumIO 1.5.6  (landing page)
Marcel Ramos
git_last_commit: 0ffa1d4
git_last_commit_date: 2025-05-07 11:07:34 -0400
nebbiolo2Linux (Ubuntu 24.04.3 LTS) / x86_64  OK    OK    OK  UNNEEDED, same version is already published
lconwaymacOS 12.7.1 Monterey / x86_64  OK    OK    OK    OK  UNNEEDED, same version is already published
kjohnson3macOS 13.7.7 Ventura / arm64  OK    OK    OK    OK  UNNEEDED, same version is already published
taishanLinux (openEuler 24.03 LTS) / aarch64  OK    OK    OK  
Package 22/23HostnameOS / ArchINSTALLBUILDCHECKBUILD BIN
visiumStitched 1.1.1  (landing page)
Nicholas J. Eagles
git_last_commit: e50a72d
git_last_commit_date: 2025-09-26 10:24:43 -0400
nebbiolo2Linux (Ubuntu 24.04.3 LTS) / x86_64  OK    OK    OK  UNNEEDED, same version is already published
lconwaymacOS 12.7.1 Monterey / x86_64  OK    OK    OK    OK  UNNEEDED, same version is already published
kjohnson3macOS 13.7.7 Ventura / arm64  OK    OK    OK    OK  UNNEEDED, same version is already published
taishanLinux (openEuler 24.03 LTS) / aarch64  OK    OK    OK  
Package 23/23HostnameOS / ArchINSTALLBUILDCHECKBUILD BIN
XeniumIO 1.1.3  (landing page)
Marcel Ramos
git_last_commit: 94e988c
git_last_commit_date: 2025-07-03 16:58:11 -0400
nebbiolo2Linux (Ubuntu 24.04.3 LTS) / x86_64  OK    OK    OK  UNNEEDED, same version is already published
lconwaymacOS 12.7.1 Monterey / x86_64  OK    OK    OK    OK  UNNEEDED, same version is already published
kjohnson3macOS 13.7.7 Ventura / arm64  OK    OK    OK    OK  UNNEEDED, same version is already published
taishanLinux (openEuler 24.03 LTS) / aarch64  OK    ERROR  skipped