Package: Bioc.gff Version: 1.1.0 Command: /Library/Frameworks/R.framework/Resources/bin/R CMD INSTALL Bioc.gff StartedAt: 2025-11-21 15:23:16 -0500 (Fri, 21 Nov 2025) EndedAt: 2025-11-21 15:23:38 -0500 (Fri, 21 Nov 2025) EllapsedTime: 21.3 seconds RetCode: 0 Status: OK