Package: Bioc.gff Version: 1.1.0 Command: rm -rf Bioc.gff.buildbin-libdir && mkdir Bioc.gff.buildbin-libdir && /Users/biocbuild/BBS/utils/build-universal.sh Bioc.gff_1.1.0.tar.gz /Library/Frameworks/R.framework/Resources/bin/R Bioc.gff.buildbin-libdir StartedAt: 2025-11-22 01:23:39 -0500 (Sat, 22 Nov 2025) EndedAt: 2025-11-22 01:24:04 -0500 (Sat, 22 Nov 2025) EllapsedTime: 24.2 seconds RetCode: 0 Status: OK PackageFile: Bioc.gff_1.1.0.tgz PackageFileSize: 368.3 KiB