Package: Bioc.gff Version: 0.99.17 Command: /Library/Frameworks/R.framework/Resources/bin/R CMD INSTALL Bioc.gff StartedAt: 2025-10-13 15:11:44 -0400 (Mon, 13 Oct 2025) EndedAt: 2025-10-13 15:11:50 -0400 (Mon, 13 Oct 2025) EllapsedTime: 6.4 seconds RetCode: 0 Status: OK