Package: Biobase Version: 2.70.0 Command: /home/biocbuild/bbs-3.22-bioc/R/bin/R CMD check --install=check:Biobase.install-out.txt --library=/home/biocbuild/bbs-3.22-bioc/R/site-library --timings Biobase_2.70.0.tar.gz StartedAt: 2025-10-30 03:51:47 -0400 (Thu, 30 Oct 2025) EndedAt: 2025-10-30 03:53:08 -0400 (Thu, 30 Oct 2025) EllapsedTime: 81.1 seconds RetCode: 0 Status: OK CheckDir: Biobase.Rcheck Warnings: 0