Package: Biobase Version: 2.71.0 Command: /home/biocbuild/bbs-3.23-bioc/R/bin/R CMD INSTALL Biobase StartedAt: 2025-11-02 15:18:07 -0500 (Sun, 02 Nov 2025) EndedAt: 2025-11-02 15:18:16 -0500 (Sun, 02 Nov 2025) EllapsedTime: 8.7 seconds RetCode: 0 Status: OK