Package: Biobase Version: 2.71.0 Command: /home/biocbuild/bbs-3.23-bioc/R/bin/R CMD build --keep-empty-dirs --no-resave-data Biobase StartedAt: 2025-11-02 16:31:48 -0500 (Sun, 02 Nov 2025) EndedAt: 2025-11-02 16:32:04 -0500 (Sun, 02 Nov 2025) EllapsedTime: 16.0 seconds RetCode: 0 Status: OK PackageFile: Biobase_2.71.0.tar.gz PackageFileSize: 1.886 MiB