Package: Biobase Version: 2.69.1 Command: /Library/Frameworks/R.framework/Resources/bin/R CMD INSTALL Biobase StartedAt: 2025-10-05 15:14:13 -0400 (Sun, 05 Oct 2025) EndedAt: 2025-10-05 15:14:28 -0400 (Sun, 05 Oct 2025) EllapsedTime: 15.0 seconds RetCode: 0 Status: OK