Package: Biobase Version: 2.69.1 Command: /Library/Frameworks/R.framework/Resources/bin/R CMD build --keep-empty-dirs --no-resave-data Biobase StartedAt: 2025-10-05 16:09:37 -0400 (Sun, 05 Oct 2025) EndedAt: 2025-10-05 16:10:13 -0400 (Sun, 05 Oct 2025) EllapsedTime: 35.4 seconds RetCode: 0 Status: OK PackageFile: Biobase_2.69.1.tar.gz PackageFileSize: 1.885 MiB