Package: Biobase Version: 2.69.1 Command: rm -rf Biobase.buildbin-libdir && mkdir Biobase.buildbin-libdir && /Users/biocbuild/BBS/utils/build-universal.sh Biobase_2.69.1.tar.gz /Library/Frameworks/R.framework/Resources/bin/R Biobase.buildbin-libdir StartedAt: 2025-10-07 01:59:18 -0400 (Tue, 07 Oct 2025) EndedAt: 2025-10-07 01:59:38 -0400 (Tue, 07 Oct 2025) EllapsedTime: 20.5 seconds RetCode: 0 Status: OK PackageFile: Biobase_2.69.1.tgz PackageFileSize: 2.51 MiB