Package: Biobase Version: 2.69.1 Maintainer: Bioconductor Package Maintainer MaintainerEmail: maintainer at bioconductor.org git_url: https://git.bioconductor.org/packages/Biobase git_branch: devel git_last_commit: 6711552 git_last_commit_date: 2025-09-12 21:18:58 -0400 (Fri, 12 Sep 2025)