Package: BioTIP Version: 1.25.0 Command: /home/biocbuild/bbs-3.23-bioc/R/bin/R CMD check --install=check:BioTIP.install-out.txt --library=/home/biocbuild/bbs-3.23-bioc/R/site-library --timings BioTIP_1.25.0.tar.gz StartedAt: 2025-11-06 21:22:42 -0500 (Thu, 06 Nov 2025) EndedAt: 2025-11-06 21:25:38 -0500 (Thu, 06 Nov 2025) EllapsedTime: 176.3 seconds RetCode: 0 Status: WARNINGS CheckDir: BioTIP.Rcheck Warnings: 3