Package: BioTIP Version: 1.25.0 Command: /home/biocbuild/bbs-3.23-bioc/R/bin/R CMD build --keep-empty-dirs --no-resave-data BioTIP StartedAt: 2025-11-04 16:28:49 -0500 (Tue, 04 Nov 2025) EndedAt: 2025-11-04 16:30:20 -0500 (Tue, 04 Nov 2025) EllapsedTime: 91.1 seconds RetCode: 0 Status: OK PackageFile: BioTIP_1.25.0.tar.gz PackageFileSize: 8.645 MiB