Package: BioQC Version: 1.37.0 Command: /home/biocbuild/R/R/bin/R CMD INSTALL BioQC StartedAt: 2025-10-09 21:04:34 -0000 (Thu, 09 Oct 2025) EndedAt: 2025-10-09 21:04:51 -0000 (Thu, 09 Oct 2025) EllapsedTime: 16.2 seconds RetCode: 0 Status: OK