Package: BioQC Version: 1.37.0 Command: /home/biocbuild/R/R/bin/R CMD build --keep-empty-dirs --no-resave-data BioQC StartedAt: 2025-10-09 23:07:29 -0000 (Thu, 09 Oct 2025) EndedAt: 2025-10-09 23:10:21 -0000 (Thu, 09 Oct 2025) EllapsedTime: 172.1 seconds RetCode: 0 Status: OK PackageFile: BioQC_1.37.0.tar.gz PackageFileSize: 4.301 MiB