Package: BioQC Version: 1.37.0 Command: chmod a+r BioQC -R && F:\biocbuild\bbs-3.22-bioc\R\bin\R.exe CMD build --keep-empty-dirs --no-resave-data BioQC StartedAt: 2025-08-14 18:47:46 -0400 (Thu, 14 Aug 2025) EndedAt: 2025-08-14 18:51:36 -0400 (Thu, 14 Aug 2025) EllapsedTime: 229.6 seconds RetCode: 0 Status: OK PackageFile: BioQC_1.37.0.tar.gz PackageFileSize: 4.302 MiB