Package: BioQC Version: 1.37.0 Command: /home/biocbuild/bbs-3.22-bioc/R/bin/R CMD check --install=check:BioQC.install-out.txt --library=/home/biocbuild/bbs-3.22-bioc/R/site-library --timings BioQC_1.37.0.tar.gz StartedAt: 2025-10-05 21:39:36 -0400 (Sun, 05 Oct 2025) EndedAt: 2025-10-05 21:43:26 -0400 (Sun, 05 Oct 2025) EllapsedTime: 230.4 seconds RetCode: 0 Status: OK CheckDir: BioQC.Rcheck Warnings: 0