Package: BioQC Version: 1.39.0 Command: /home/biocbuild/bbs-3.23-bioc/R/bin/R CMD check --install=check:BioQC.install-out.txt --library=/home/biocbuild/bbs-3.23-bioc/R/site-library --timings BioQC_1.39.0.tar.gz StartedAt: 2025-11-21 21:31:34 -0500 (Fri, 21 Nov 2025) EndedAt: 2025-11-21 21:34:13 -0500 (Fri, 21 Nov 2025) EllapsedTime: 159.2 seconds RetCode: 0 Status: OK CheckDir: BioQC.Rcheck Warnings: 0