Package: BioQC Version: 1.39.0 Command: /home/biocbuild/bbs-3.23-bioc/R/bin/R CMD build --keep-empty-dirs --no-resave-data BioQC StartedAt: 2025-11-20 16:30:06 -0500 (Thu, 20 Nov 2025) EndedAt: 2025-11-20 16:31:58 -0500 (Thu, 20 Nov 2025) EllapsedTime: 112.1 seconds RetCode: 0 Status: OK PackageFile: BioQC_1.39.0.tar.gz PackageFileSize: 4.3 MiB